BEGIN:VCALENDAR
VERSION:2.0
PRODID:-//Vivekananda Yoga University, VaYU - ECPv6.15.20//NONSGML v1.0//EN
CALSCALE:GREGORIAN
METHOD:PUBLISH
X-WR-CALNAME:Vivekananda Yoga University, VaYU
X-ORIGINAL-URL:https://vayuusa.org
X-WR-CALDESC:Events for Vivekananda Yoga University, VaYU
REFRESH-INTERVAL;VALUE=DURATION:PT1H
X-Robots-Tag:noindex
X-PUBLISHED-TTL:PT1H
BEGIN:VTIMEZONE
TZID:America/Los_Angeles
BEGIN:DAYLIGHT
TZOFFSETFROM:-0800
TZOFFSETTO:-0700
TZNAME:PDT
DTSTART:20240310T100000
END:DAYLIGHT
BEGIN:STANDARD
TZOFFSETFROM:-0700
TZOFFSETTO:-0800
TZNAME:PST
DTSTART:20241103T090000
END:STANDARD
BEGIN:DAYLIGHT
TZOFFSETFROM:-0800
TZOFFSETTO:-0700
TZNAME:PDT
DTSTART:20250309T100000
END:DAYLIGHT
BEGIN:STANDARD
TZOFFSETFROM:-0700
TZOFFSETTO:-0800
TZNAME:PST
DTSTART:20251102T090000
END:STANDARD
BEGIN:DAYLIGHT
TZOFFSETFROM:-0800
TZOFFSETTO:-0700
TZNAME:PDT
DTSTART:20260308T100000
END:DAYLIGHT
BEGIN:STANDARD
TZOFFSETFROM:-0700
TZOFFSETTO:-0800
TZNAME:PST
DTSTART:20261101T090000
END:STANDARD
END:VTIMEZONE
BEGIN:VEVENT
DTSTART;TZID=America/Los_Angeles:20250607T180000
DTEND;TZID=America/Los_Angeles:20250607T190000
DTSTAMP:20260424T084935
CREATED:20250519T040131Z
LAST-MODIFIED:20250519T040223Z
UID:10943-1749319200-1749322800@vayuusa.org
SUMMARY:Online M.S./Ph.D.: FALL 2025 Admissions Open House June 7th 6pm PST
DESCRIPTION:[ Register for the Zoom webinar by clicking here. ] \nWe are excited to announce that Fall admissions are open at VaYU\, the 1st Yoga University outside India with online M.S./Ph.D. programs. The Fall semester begins August 25th\, 2025. \nWelcome to VaYU’s online Open House for the Fall 2025 semester on Saturday\, June 7th\, 2025\, at 6pm PT. \nPlease join us to enjoy a highly informative session with Q&A to shape your future with an online M.S. and/or Ph.D. We are excited to welcome you with an awesome lineup of speakers including luminaries\, alumni\, and the VaYU Executive Team. \nEarly application deadline with a special 10% discount on first semester tuition and for considerations for work-study scholarships is June 30th\, 2025.  \n  \n \nYou can enjoy VaYU’s online graduate education and research programs at your own pace\, at anyplace and at any time. VaYU’s Master of Science (Yoga Therapy) Program is accredited by the International Association of Yoga Therapists (IAYT)\, for a C-IAYT credential. \nWe look forward to seeing you at the Online Open House for valuable information to transform you and your career. \n[ Register for the Zoom webinar by clicking here. ]
URL:https://vayuusa.org/event/online-m-s-ph-d-fall-2025-admissions-open-house-june-7th-6pm-pst/
CATEGORIES:Open House
ATTACH;FMTTYPE=image/jpeg:https://vayuusa.org/wp-content/uploads/2025/05/unnamed.jpg
END:VEVENT
BEGIN:VEVENT
DTSTART;TZID=America/Los_Angeles:20250628T090000
DTEND;TZID=America/Los_Angeles:20250628T100000
DTSTAMP:20260424T084935
CREATED:20250618T114026Z
LAST-MODIFIED:20250623T184611Z
UID:11017-1751101200-1751104800@vayuusa.org
SUMMARY:Register Now for VaYU's Online Open House for Fall 2025 admissions to online M.S./Ph.D. programs
DESCRIPTION:[ Register for the Zoom webinar by clicking here. ] \nWe are excited to announce that Fall admissions are open at VaYU\, the 1st Yoga University outside India with online M.S./Ph.D. programs. The Fall semester begins August 25th\, 2025. Welcome to VaYU’s online Open House for the Fall 2025 semester on Saturday\, June 28th\, 2025\, at 9AM PT. \nPlease join us to enjoy a highly informative session with Q&A to shape your future with an online M.S. and/or Ph.D. We are excited to welcome you with an awesome lineup of speakers including luminaries\, alumni\, and the VaYU Executive Team. \nEarly application deadline with a special 10% discount on first semester tuition and for considerations for work-study scholarships is extended till July 15th\, 2025.  \nYou can enjoy VaYU’s online graduate education and research programs at your own pace\, at anyplace and at any time. VaYU’s Master of Science (Yoga Therapy) Program is accredited by the International Association of Yoga Therapists (IAYT)\, for a C-IAYT credential. \nWe look forward to seeing you at the Online Open House for valuable information to transform you and your career. \n  \nIf you are ready for our M.S./Ph.D Programs\, Please Apply \n[ Register for the Zoom webinar by clicking here. ]
URL:https://vayuusa.org/event/register-now-for-vayus-online-open-house-for-fall-2025-admissions-to-online-m-s-ph-d-programs/
CATEGORIES:Open House
ATTACH;FMTTYPE=image/png:https://vayuusa.org/wp-content/uploads/2025/06/Admissions-Open-1.png
END:VEVENT
END:VCALENDAR