BEGIN:VCALENDAR
VERSION:2.0
PRODID:-//Vivekananda Yoga University, VaYU - ECPv6.15.20//NONSGML v1.0//EN
CALSCALE:GREGORIAN
METHOD:PUBLISH
X-WR-CALNAME:Vivekananda Yoga University, VaYU
X-ORIGINAL-URL:https://vayuusa.org
X-WR-CALDESC:Events for Vivekananda Yoga University, VaYU
REFRESH-INTERVAL;VALUE=DURATION:PT1H
X-Robots-Tag:noindex
X-PUBLISHED-TTL:PT1H
BEGIN:VTIMEZONE
TZID:America/Los_Angeles
BEGIN:DAYLIGHT
TZOFFSETFROM:-0800
TZOFFSETTO:-0700
TZNAME:PDT
DTSTART:20240310T100000
END:DAYLIGHT
BEGIN:STANDARD
TZOFFSETFROM:-0700
TZOFFSETTO:-0800
TZNAME:PST
DTSTART:20241103T090000
END:STANDARD
BEGIN:DAYLIGHT
TZOFFSETFROM:-0800
TZOFFSETTO:-0700
TZNAME:PDT
DTSTART:20250309T100000
END:DAYLIGHT
BEGIN:STANDARD
TZOFFSETFROM:-0700
TZOFFSETTO:-0800
TZNAME:PST
DTSTART:20251102T090000
END:STANDARD
BEGIN:DAYLIGHT
TZOFFSETFROM:-0800
TZOFFSETTO:-0700
TZNAME:PDT
DTSTART:20260308T100000
END:DAYLIGHT
BEGIN:STANDARD
TZOFFSETFROM:-0700
TZOFFSETTO:-0800
TZNAME:PST
DTSTART:20261101T090000
END:STANDARD
END:VTIMEZONE
BEGIN:VEVENT
DTSTART;TZID=America/Los_Angeles:20250813T090000
DTEND;TZID=America/Los_Angeles:20250813T100000
DTSTAMP:20260424T045605
CREATED:20250802T194046Z
LAST-MODIFIED:20250802T194146Z
UID:11115-1755075600-1755079200@vayuusa.org
SUMMARY:Fall is almost here. Register for VaYU's Final Online Open House for Fall 2025 admissions to online M.S./Ph.D. programs
DESCRIPTION:[ Register for the Zoom webinar by clicking here. ]\nGood news: There is still time to apply and join VaYU Fall semester starting August 25th\, 2025. Please Hurry up and Apply! \nEnjoy VaYU’s Final Two Online Open Houses for the Fall 2025 semester on Wednesday\, August 13th 2025\, at  9AM PST  \nAnother Good news: Final extension of Early Bird application deadline is August 15th to earn a special 10% discount on first semester tuition and for considerations for work-study scholarships. \n \nThe Fall semester begins August 25th\, 2025.  \nAlso\, very happy to share that WSCUC (WASC Senior College and University Commission) has granted VaYU\, Candidacy Accreditation\, for 5 years from June 2025. Press Release imminent any day. \nPlease join us to enjoy a highly informative session with Q&A to shape your future with an online M.S.\, Ph.D. or an integrated M.S.- Ph.D. We are excited to welcome you with an awesome lineup of speakers including Luminaries\, Alumni\, and VaYU’s dedicated Team. \nYou can enjoy VaYU’s online graduate education and research programs at your own pace\, at anyplace and at any time. VaYU’s Master of Science (Yoga Therapy) Program is accredited by the International Association of Yoga Therapists (IAYT)\, for a C-IAYT credential. \nWe look forward to seeing you at the Online Open House for valuable information to transform you and your career. \n[ Register for the Zoom webinar by clicking here. ]
URL:https://vayuusa.org/event/fall-is-almost-here-register-for-vayus-final-online-open-house-for-fall-2025-admissions-to-online-m-s-ph-d-programs/
CATEGORIES:Open House
ATTACH;FMTTYPE=image/jpeg:https://vayuusa.org/wp-content/uploads/2025/08/527601606_1368527255279272_7384274899262545328_n.jpg
END:VEVENT
BEGIN:VEVENT
DTSTART;TZID=America/Los_Angeles:20250813T180000
DTEND;TZID=America/Los_Angeles:20250813T180000
DTSTAMP:20260424T045605
CREATED:20250802T195522Z
LAST-MODIFIED:20250803T030919Z
UID:11120-1755108000-1755108000@vayuusa.org
SUMMARY:Online M.S./Ph.D.: FALL 2025 Admissions Open House August 13th 6 pm PST
DESCRIPTION:[ Register for the Zoom webinar by clicking here. ]\nGood news: There is still time to apply and join VaYU Fall semester starting August 25th\, 2025. Please Hurry up and Apply! \nEnjoy VaYU’s Final Two Online Open Houses for the Fall 2025 semester on Wednesday\, August 13th 2025\, at  9AM PST  \nAnother Good news: Final extension of Early Bird application deadline is August 15th to earn a special 10% discount on first semester tuition and for considerations for work-study scholarships.  \nThe Fall semester begins August 25th\, 2025.  \n \nAlso\, very happy to share that WSCUC (WASC Senior College and University Commission) has granted VaYU\, Candidacy Accreditation\, for 5 years from June 2025. Press Release imminent any day. \nPlease join us to enjoy a highly informative session with Q&A to shape your future with an online M.S.\, Ph.D. or an integrated M.S.- Ph.D. We are excited to welcome you with an awesome lineup of speakers including Luminaries\, Alumni\, and VaYU’s dedicated Team. \nYou can enjoy VaYU’s online graduate education and research programs at your own pace\, at anyplace and at any time. VaYU’s Master of Science (Yoga Therapy) Program is accredited by the International Association of Yoga Therapists (IAYT)\, for a C-IAYT credential. \nWe look forward to seeing you at the Online Open House for valuable information to transform you and your career. \n[ Register for the Zoom webinar by clicking here. ]
URL:https://vayuusa.org/event/online-m-s-ph-d-fall-2025-admissions-open-house-august-13th-6-pm-pst/
CATEGORIES:Open House
ATTACH;FMTTYPE=image/jpeg:https://vayuusa.org/wp-content/uploads/2025/08/527780257_1368529741945690_4563683727646926256_n.jpg
END:VEVENT
END:VCALENDAR