BEGIN:VCALENDAR
VERSION:2.0
PRODID:-//Vivekananda Yoga University, VaYU - ECPv6.15.20//NONSGML v1.0//EN
CALSCALE:GREGORIAN
METHOD:PUBLISH
X-WR-CALNAME:Vivekananda Yoga University, VaYU
X-ORIGINAL-URL:https://vayuusa.org
X-WR-CALDESC:Events for Vivekananda Yoga University, VaYU
REFRESH-INTERVAL;VALUE=DURATION:PT1H
X-Robots-Tag:noindex
X-PUBLISHED-TTL:PT1H
BEGIN:VTIMEZONE
TZID:America/Los_Angeles
BEGIN:DAYLIGHT
TZOFFSETFROM:-0800
TZOFFSETTO:-0700
TZNAME:PDT
DTSTART:20210314T100000
END:DAYLIGHT
BEGIN:STANDARD
TZOFFSETFROM:-0700
TZOFFSETTO:-0800
TZNAME:PST
DTSTART:20211107T090000
END:STANDARD
BEGIN:DAYLIGHT
TZOFFSETFROM:-0800
TZOFFSETTO:-0700
TZNAME:PDT
DTSTART:20220313T100000
END:DAYLIGHT
BEGIN:STANDARD
TZOFFSETFROM:-0700
TZOFFSETTO:-0800
TZNAME:PST
DTSTART:20221106T090000
END:STANDARD
BEGIN:DAYLIGHT
TZOFFSETFROM:-0800
TZOFFSETTO:-0700
TZNAME:PDT
DTSTART:20230312T100000
END:DAYLIGHT
BEGIN:STANDARD
TZOFFSETFROM:-0700
TZOFFSETTO:-0800
TZNAME:PST
DTSTART:20231105T090000
END:STANDARD
BEGIN:DAYLIGHT
TZOFFSETFROM:-0800
TZOFFSETTO:-0700
TZNAME:PDT
DTSTART:20240310T100000
END:DAYLIGHT
BEGIN:STANDARD
TZOFFSETFROM:-0700
TZOFFSETTO:-0800
TZNAME:PST
DTSTART:20241103T090000
END:STANDARD
BEGIN:DAYLIGHT
TZOFFSETFROM:-0800
TZOFFSETTO:-0700
TZNAME:PDT
DTSTART:20250309T100000
END:DAYLIGHT
BEGIN:STANDARD
TZOFFSETFROM:-0700
TZOFFSETTO:-0800
TZNAME:PST
DTSTART:20251102T090000
END:STANDARD
END:VTIMEZONE
BEGIN:VEVENT
DTSTART;TZID=America/Los_Angeles:20240518T180000
DTEND;TZID=America/Los_Angeles:20240518T190000
DTSTAMP:20260423T174454
CREATED:20240425T124342Z
LAST-MODIFIED:20240501T034511Z
UID:8680-1716055200-1716058800@vayuusa.org
SUMMARY:Online MS / PhD from VaYU - Online Open House May 18th\, 2024
DESCRIPTION:[ Register for the Open House Zoom webinar by clicking here. ]\nWelcome to VaYU's online Open House for the Fall 2024 semester. Please join us and find out how you can get an online MS & Ph.D. (Yoga) degree in Yoga Therapy\, Yoga Philosophy\, or Yoga Research from VaYU\, USA. \nYou can study online at your own pace\, place\, and time. \nAdmissions are OPEN for Fall 2024 and applications are coming in. We are very happy to announce that VaYU's Master of Science (Yoga Therapy) Program is accredited by the International Association of Yoga Therapists (IAYT). \n[ Register for the Open House Zoom webinar by clicking here. ]
URL:https://vayuusa.org/event/online-ms-phd-from-vayu-online-open-house-may-18th-2024/
CATEGORIES:Open House
ATTACH;FMTTYPE=image/png:https://vayuusa.org/wp-content/uploads/2024/04/Open_House_VaYU_May_18_2024.png
END:VEVENT
BEGIN:VEVENT
DTSTART;TZID=America/Los_Angeles:20240420T180000
DTEND;TZID=America/Los_Angeles:20240420T190000
DTSTAMP:20260423T174454
CREATED:20240410T184149Z
LAST-MODIFIED:20240410T184149Z
UID:8615-1713636000-1713639600@vayuusa.org
SUMMARY:Online MS / PhD from VaYU - Online Open House April 20th\, 2024
DESCRIPTION:[ Register for the Open House Zoom webinar by clicking here. ]\nWelcome to VaYU's online Open House for the Fall 2024 semester. Please join us and find out how you can get an online MS & Ph.D. (Yoga) degree in Yoga Therapy\, Yoga Philosophy\, or Yoga Research from VaYU\, USA. \nYou can study online at your own pace\, place\, and time. \nAdmissions are OPEN for Fall 2024 and applications are coming in. We are very happy to announce that VaYU's Master of Science (Yoga Therapy) Program is accredited by the International Association of Yoga Therapists (IAYT). \n[ Register for the Open House Zoom webinar by clicking here. ]
URL:https://vayuusa.org/event/online-ms-phd-from-vayu-online-open-house-apr-20th-2024/
CATEGORIES:Open House
ATTACH;FMTTYPE=image/png:https://vayuusa.org/wp-content/uploads/2024/04/OH-April-20-2024.png
END:VEVENT
BEGIN:VEVENT
DTSTART;TZID=America/Los_Angeles:20240324T180000
DTEND;TZID=America/Los_Angeles:20240324T190000
DTSTAMP:20260423T174454
CREATED:20240323T162133Z
LAST-MODIFIED:20240323T162133Z
UID:8588-1711303200-1711306800@vayuusa.org
SUMMARY:Spring Alumni Maitree Meet Mar 24th\, 2024
DESCRIPTION:[ Register for the Open House Zoom webinar by clicking here. ]\nWelcome to VaYU's online Open House for the Fall 2024 semester. Please join us and find out how you can get an online MS & Ph.D. (Yoga) degree in Yoga Therapy\, Yoga Philosophy\, or Yoga Research from VaYU\, USA. \nYou can study online at your own pace\, place\, and time. \nAdmissions are OPEN for Fall 2024 and applications are coming in. We are very happy to announce that VaYU's Master of Science (Yoga Therapy) Program is accredited by the International Association of Yoga Therapists (IAYT). \n[ Register for the Open House Zoom webinar by clicking here. ]
URL:https://vayuusa.org/event/spring-alumni-maitree-meet-mar-24th-2024/
CATEGORIES:Open House
ATTACH;FMTTYPE=image/jpeg:https://vayuusa.org/wp-content/uploads/2024/03/Alumni-Maitree-Meet.jpeg
END:VEVENT
BEGIN:VEVENT
DTSTART;TZID=America/Los_Angeles:20240107T170000
DTEND;TZID=America/Los_Angeles:20240107T180000
DTSTAMP:20260423T174454
CREATED:20231229T191817Z
LAST-MODIFIED:20231229T191817Z
UID:8510-1704646800-1704650400@vayuusa.org
SUMMARY:Online MS / PhD from VaYU - Online Open House Jan 7th\, 2024
DESCRIPTION:[ Register for the Open House Zoom webinar by clicking here. ]\nWelcome to VaYU's online Open House for the Fall 2024 semester. Please join us and find out how you can get an online MS & Ph.D. (Yoga) degree in Yoga Therapy\, Yoga Philosophy\, or Yoga Research from VaYU\, USA. \nYou can study online at your own pace\, place\, and time. \nAdmissions are OPEN for Fall 2024 and applications are coming in. We are very happy to announce that VaYU's Master of Science (Yoga Therapy) Program is accredited by the International Association of Yoga Therapists (IAYT). \n[ Register for the Open House Zoom webinar by clicking here. ]
URL:https://vayuusa.org/event/online-ms-phd-from-vayu-online-open-house-jan-7th-2023/
CATEGORIES:Open House
ATTACH;FMTTYPE=image/png:https://vayuusa.org/wp-content/uploads/2023/12/OH-20240107-flyer.png
END:VEVENT
BEGIN:VEVENT
DTSTART;TZID=America/Los_Angeles:20231220T170000
DTEND;TZID=America/Los_Angeles:20231220T180000
DTSTAMP:20260423T174454
CREATED:20231211T163138Z
LAST-MODIFIED:20231211T163138Z
UID:8497-1703091600-1703095200@vayuusa.org
SUMMARY:Online MS / PhD from VaYU - Online Open House Dec 20th\, 2023
DESCRIPTION:[ Register for the Open House Zoom webinar by clicking here. ]\nWelcome to VaYU's online Open House for the Fall 2024 semester. Please join us and find out how you can get an online MS & Ph.D. (Yoga) degree in Yoga Therapy\, Yoga Philosophy\, or Yoga Research from VaYU\, USA. \nYou can study online at your own pace\, place\, and time. \nAdmissions are OPEN for Fall 2024 and applications are coming in. We are very happy to announce that VaYU's Master of Science (Yoga Therapy) Program is accredited by the International Association of Yoga Therapists (IAYT). \n[ Register for the Open House Zoom webinar by clicking here. ]
URL:https://vayuusa.org/event/online-ms-phd-from-vayu-online-open-house-dec-20th-2023/
CATEGORIES:Open House
ATTACH;FMTTYPE=image/png:https://vayuusa.org/wp-content/uploads/2023/12/OH-20231220-Flyer.png
END:VEVENT
BEGIN:VEVENT
DTSTART;TZID=America/Los_Angeles:20231215T180000
DTEND;TZID=America/Los_Angeles:20231215T190000
DTSTAMP:20260423T174454
CREATED:20231211T161513Z
LAST-MODIFIED:20231211T161923Z
UID:8492-1702663200-1702666800@vayuusa.org
SUMMARY:Distinguished Speaker Webinar Series
DESCRIPTION:[ Register for the Open House Zoom webinar by clicking here. ]\nWelcome to VaYU's online Open House for the Fall 2024 semester. Please join us and find out how you can get an online MS & Ph.D. (Yoga) degree in Yoga Therapy\, Yoga Philosophy\, or Yoga Research from VaYU\, USA. \nYou can study online at your own pace\, place\, and time. \nAdmissions are OPEN for Fall 2024 and applications are coming in. We are very happy to announce that VaYU's Master of Science (Yoga Therapy) Program is accredited by the International Association of Yoga Therapists (IAYT). \n[ Register for the Open House Zoom webinar by clicking here. ]
URL:https://vayuusa.org/event/distinguished_speaker_webinar_series_nick_shroff_15th_dec_2023/
CATEGORIES:Open House
ATTACH;FMTTYPE=image/png:https://vayuusa.org/wp-content/uploads/2023/12/NickShroff.png
END:VEVENT
BEGIN:VEVENT
DTSTART;TZID=America/Los_Angeles:20231209T170000
DTEND;TZID=America/Los_Angeles:20231209T180000
DTSTAMP:20260423T174454
CREATED:20231203T152530Z
LAST-MODIFIED:20231207T094833Z
UID:8477-1702141200-1702144800@vayuusa.org
SUMMARY:Online MS / PhD from VaYU - Online Open House Dec 9th\, 2023
DESCRIPTION:[ Register for the Open House Zoom webinar by clicking here. ]\nWelcome to VaYU's online Open House for the Fall 2024 semester. Please join us and find out how you can get an online MS & Ph.D. (Yoga) degree in Yoga Therapy\, Yoga Philosophy\, or Yoga Research from VaYU\, USA. \nYou can study online at your own pace\, place\, and time. \nAdmissions are OPEN for Fall 2024 and applications are coming in. We are very happy to announce that VaYU's Master of Science (Yoga Therapy) Program is accredited by the International Association of Yoga Therapists (IAYT). \n[ Register for the Open House Zoom webinar by clicking here. ]
URL:https://vayuusa.org/event/online-ms-phd-from-vayu-online-open-house-dec-9th-2023/
CATEGORIES:Open House
ATTACH;FMTTYPE=image/png:https://vayuusa.org/wp-content/uploads/2023/12/OH-20231209-Flyer.png
END:VEVENT
BEGIN:VEVENT
DTSTART;TZID=America/Los_Angeles:20231119T170000
DTEND;TZID=America/Los_Angeles:20231119T180000
DTSTAMP:20260423T174454
CREATED:20231118T022532Z
LAST-MODIFIED:20231119T060931Z
UID:8458-1700413200-1700416800@vayuusa.org
SUMMARY:Online MS / PhD from VaYU - Online Open House Nov 19th\, 2023
DESCRIPTION:[ Register for the Open House Zoom webinar by clicking here. ]\nWelcome to VaYU's online Open House for the Fall 2024 semester. Please join us and find out how you can get an online MS & Ph.D. (Yoga) degree in Yoga Therapy\, Yoga Philosophy\, or Yoga Research from VaYU\, USA. \nYou can study online at your own pace\, place\, and time. \nAdmissions are OPEN for Fall 2024 and applications are coming in. We are very happy to announce that VaYU's Master of Science (Yoga Therapy) Program is accredited by the International Association of Yoga Therapists (IAYT). \n[ Register for the Open House Zoom webinar by clicking here. ]
URL:https://vayuusa.org/event/online-ms-phd-from-vayu-open-house-nov-19th-2023/
CATEGORIES:Open House
ATTACH;FMTTYPE=image/png:https://vayuusa.org/wp-content/uploads/2023/11/OH-20231119-Flyer.png
END:VEVENT
BEGIN:VEVENT
DTSTART;TZID=America/Los_Angeles:20230812T170000
DTEND;TZID=America/Los_Angeles:20230812T180000
DTSTAMP:20260423T174454
CREATED:20230730T123639Z
LAST-MODIFIED:20230730T123639Z
UID:8325-1691859600-1691863200@vayuusa.org
SUMMARY:Online MS / PhD from VaYU - Online Open House Aug 12th\, 2023
DESCRIPTION:[ Register for the Open House Zoom webinar by clicking here. ]\nWelcome to VaYU's online Open House for the Fall 2024 semester. Please join us and find out how you can get an online MS & Ph.D. (Yoga) degree in Yoga Therapy\, Yoga Philosophy\, or Yoga Research from VaYU\, USA. \nYou can study online at your own pace\, place\, and time. \nAdmissions are OPEN for Fall 2024 and applications are coming in. We are very happy to announce that VaYU's Master of Science (Yoga Therapy) Program is accredited by the International Association of Yoga Therapists (IAYT). \n[ Register for the Open House Zoom webinar by clicking here. ]
URL:https://vayuusa.org/event/online-ms-phd-from-vayu-open-house-aug-12th-2023/
CATEGORIES:Open House
ATTACH;FMTTYPE=image/png:https://vayuusa.org/wp-content/uploads/2023/07/OH-20230812-Flyer.png
END:VEVENT
BEGIN:VEVENT
DTSTART;TZID=America/Los_Angeles:20230729T170000
DTEND;TZID=America/Los_Angeles:20230729T180000
DTSTAMP:20260423T174454
CREATED:20230725T121031Z
LAST-MODIFIED:20230725T121448Z
UID:8316-1690650000-1690653600@vayuusa.org
SUMMARY:Online MS / PhD from VaYU - Online Open House July 29th\, 2023
DESCRIPTION:[ Register for the Open House Zoom webinar by clicking here. ]\nWelcome to VaYU's online Open House for the Fall 2024 semester. Please join us and find out how you can get an online MS & Ph.D. (Yoga) degree in Yoga Therapy\, Yoga Philosophy\, or Yoga Research from VaYU\, USA. \nYou can study online at your own pace\, place\, and time. \nAdmissions are OPEN for Fall 2024 and applications are coming in. We are very happy to announce that VaYU's Master of Science (Yoga Therapy) Program is accredited by the International Association of Yoga Therapists (IAYT). \n[ Register for the Open House Zoom webinar by clicking here. ]
URL:https://vayuusa.org/event/online-ms-phd-from-vayu-open-house-jul-29th-2023/
CATEGORIES:Open House
ATTACH;FMTTYPE=image/png:https://vayuusa.org/wp-content/uploads/2023/07/VaYU-Open-House-2023-07-29.png
END:VEVENT
BEGIN:VEVENT
DTSTART;TZID=America/Los_Angeles:20230709T170000
DTEND;TZID=America/Los_Angeles:20230709T180000
DTSTAMP:20260423T174455
CREATED:20230705T152441Z
LAST-MODIFIED:20230705T153525Z
UID:8287-1688922000-1688925600@vayuusa.org
SUMMARY:Online MS / PhD from VaYU - Online Open House July 9th\, 2023
DESCRIPTION:[ Register for the Open House Zoom webinar by clicking here. ]\nWelcome to VaYU's online Open House for the Fall 2024 semester. Please join us and find out how you can get an online MS & Ph.D. (Yoga) degree in Yoga Therapy\, Yoga Philosophy\, or Yoga Research from VaYU\, USA. \nYou can study online at your own pace\, place\, and time. \nAdmissions are OPEN for Fall 2024 and applications are coming in. We are very happy to announce that VaYU's Master of Science (Yoga Therapy) Program is accredited by the International Association of Yoga Therapists (IAYT). \n[ Register for the Open House Zoom webinar by clicking here. ]
URL:https://vayuusa.org/event/online-ms-phd-from-vayu-open-house-jul-9th-2023/
CATEGORIES:Open House
ATTACH;FMTTYPE=image/png:https://vayuusa.org/wp-content/uploads/2023/07/VaYU-Open-House-2023-07-09-1.png
END:VEVENT
BEGIN:VEVENT
DTSTART;TZID=America/Los_Angeles:20230624T170000
DTEND;TZID=America/Los_Angeles:20230624T180000
DTSTAMP:20260423T174455
CREATED:20230620T110206Z
LAST-MODIFIED:20230621T143845Z
UID:8100-1687626000-1687629600@vayuusa.org
SUMMARY:ChatGPT\, Yoga and MS/PhD from VaYU - Open House Jun 24th\, 2023
DESCRIPTION:[ Register for the Open House Zoom webinar by clicking here. ]\nWelcome to VaYU's online Open House for the Fall 2024 semester. Please join us and find out how you can get an online MS & Ph.D. (Yoga) degree in Yoga Therapy\, Yoga Philosophy\, or Yoga Research from VaYU\, USA. \nYou can study online at your own pace\, place\, and time. \nAdmissions are OPEN for Fall 2024 and applications are coming in. We are very happy to announce that VaYU's Master of Science (Yoga Therapy) Program is accredited by the International Association of Yoga Therapists (IAYT). \n[ Register for the Open House Zoom webinar by clicking here. ]
URL:https://vayuusa.org/event/chatgpt-yoga-and-ms-phd-from-vayu-open-house-jun-24th-2023/
CATEGORIES:Open House
ATTACH;FMTTYPE=image/jpeg:https://vayuusa.org/wp-content/uploads/2023/06/OH-20230624-chatgpt-square.jpg
END:VEVENT
BEGIN:VEVENT
DTSTART;TZID=America/Los_Angeles:20230107T170000
DTEND;TZID=America/Los_Angeles:20230107T180000
DTSTAMP:20260423T174455
CREATED:20221202T155003Z
LAST-MODIFIED:20221202T155003Z
UID:7918-1673110800-1673114400@vayuusa.org
SUMMARY:MS & PhD Yoga Program - Online Open House Jan 7th\, 2023
DESCRIPTION:[ Register for the Open House Zoom webinar by clicking here. ]\nWelcome to VaYU's online Open House for the Fall 2024 semester. Please join us and find out how you can get an online MS & Ph.D. (Yoga) degree in Yoga Therapy\, Yoga Philosophy\, or Yoga Research from VaYU\, USA. \nYou can study online at your own pace\, place\, and time. \nAdmissions are OPEN for Fall 2024 and applications are coming in. We are very happy to announce that VaYU's Master of Science (Yoga Therapy) Program is accredited by the International Association of Yoga Therapists (IAYT). \n[ Register for the Open House Zoom webinar by clicking here. ]
URL:https://vayuusa.org/event/ms-phd-yoga-program-online-open-house-jan-7th-2023/
CATEGORIES:Open House
ATTACH;FMTTYPE=image/png:https://vayuusa.org/wp-content/uploads/2022/12/open-house-20230107-B-fb.png
END:VEVENT
BEGIN:VEVENT
DTSTART;TZID=America/Los_Angeles:20221228T180000
DTEND;TZID=America/Los_Angeles:20221228T190000
DTSTAMP:20260423T174455
CREATED:20221202T154901Z
LAST-MODIFIED:20221202T154901Z
UID:7917-1672250400-1672254000@vayuusa.org
SUMMARY:MS & PhD Yoga Program - Online Open House Dec 28th\, 2022
DESCRIPTION:[ Register for the Open House Zoom webinar by clicking here. ]\nWelcome to VaYU's online Open House for the Fall 2024 semester. Please join us and find out how you can get an online MS & Ph.D. (Yoga) degree in Yoga Therapy\, Yoga Philosophy\, or Yoga Research from VaYU\, USA. \nYou can study online at your own pace\, place\, and time. \nAdmissions are OPEN for Fall 2024 and applications are coming in. We are very happy to announce that VaYU's Master of Science (Yoga Therapy) Program is accredited by the International Association of Yoga Therapists (IAYT). \n[ Register for the Open House Zoom webinar by clicking here. ]
URL:https://vayuusa.org/event/ms-phd-yoga-program-online-open-house-dec-28th-2022/
CATEGORIES:Open House
ATTACH;FMTTYPE=image/png:https://vayuusa.org/wp-content/uploads/2022/12/open-house-20221228-A.png
END:VEVENT
BEGIN:VEVENT
DTSTART;TZID=America/Los_Angeles:20221218T170000
DTEND;TZID=America/Los_Angeles:20221218T180000
DTSTAMP:20260423T174455
CREATED:20221202T154612Z
LAST-MODIFIED:20221202T155027Z
UID:7916-1671382800-1671386400@vayuusa.org
SUMMARY:MS & PhD Yoga Program - Online Open House Dec 18th\, 2022
DESCRIPTION:[ Register for the Open House Zoom webinar by clicking here. ]\nWelcome to VaYU's online Open House for the Fall 2024 semester. Please join us and find out how you can get an online MS & Ph.D. (Yoga) degree in Yoga Therapy\, Yoga Philosophy\, or Yoga Research from VaYU\, USA. \nYou can study online at your own pace\, place\, and time. \nAdmissions are OPEN for Fall 2024 and applications are coming in. We are very happy to announce that VaYU's Master of Science (Yoga Therapy) Program is accredited by the International Association of Yoga Therapists (IAYT). \n[ Register for the Open House Zoom webinar by clicking here. ]
URL:https://vayuusa.org/event/ms-phd-yoga-program-online-open-house-dec-18th-2022/
CATEGORIES:Open House
ATTACH;FMTTYPE=image/png:https://vayuusa.org/wp-content/uploads/2022/12/open-house-20221218-B-fb.png
END:VEVENT
BEGIN:VEVENT
DTSTART;TZID=America/Los_Angeles:20221207T180000
DTEND;TZID=America/Los_Angeles:20221207T190000
DTSTAMP:20260423T174455
CREATED:20221202T153540Z
LAST-MODIFIED:20221202T153540Z
UID:7904-1670436000-1670439600@vayuusa.org
SUMMARY:MS & PhD Yoga Program - Online Open House Dec 7th\, 2022
DESCRIPTION:[ Register for the Open House Zoom webinar by clicking here. ]\nWelcome to VaYU's online Open House for the Fall 2024 semester. Please join us and find out how you can get an online MS & Ph.D. (Yoga) degree in Yoga Therapy\, Yoga Philosophy\, or Yoga Research from VaYU\, USA. \nYou can study online at your own pace\, place\, and time. \nAdmissions are OPEN for Fall 2024 and applications are coming in. We are very happy to announce that VaYU's Master of Science (Yoga Therapy) Program is accredited by the International Association of Yoga Therapists (IAYT). \n[ Register for the Open House Zoom webinar by clicking here. ]
URL:https://vayuusa.org/event/ms-phd-yoga-program-online-open-house-dec-7th-2022/
CATEGORIES:Open House
ATTACH;FMTTYPE=image/png:https://vayuusa.org/wp-content/uploads/2022/12/open-house-20221207-A.png
END:VEVENT
BEGIN:VEVENT
DTSTART;TZID=America/Los_Angeles:20220814T170000
DTEND;TZID=America/Los_Angeles:20220814T180000
DTSTAMP:20260423T174455
CREATED:20220728T173903Z
LAST-MODIFIED:20221202T144935Z
UID:7620-1660496400-1660500000@vayuusa.org
SUMMARY:VaYU Admissions Online Open House August 14\, 2022 MS Program
DESCRIPTION:[ Register for the Open House Zoom webinar by clicking here. ]\nWelcome to VaYU's online Open House for the Fall 2024 semester. Please join us and find out how you can get an online MS & Ph.D. (Yoga) degree in Yoga Therapy\, Yoga Philosophy\, or Yoga Research from VaYU\, USA. \nYou can study online at your own pace\, place\, and time. \nAdmissions are OPEN for Fall 2024 and applications are coming in. We are very happy to announce that VaYU's Master of Science (Yoga Therapy) Program is accredited by the International Association of Yoga Therapists (IAYT). \n[ Register for the Open House Zoom webinar by clicking here. ]
URL:https://vayuusa.org/event/vayu-admissions-online-open-house-august-14-2022-ms-program/
CATEGORIES:Open House
ATTACH;FMTTYPE=image/jpeg:https://vayuusa.org/wp-content/uploads/2022/07/Open-House-2022-08-14-MS-Program.jpg
END:VEVENT
BEGIN:VEVENT
DTSTART;TZID=America/Los_Angeles:20220809T180000
DTEND;TZID=America/Los_Angeles:20220809T190000
DTSTAMP:20260423T174455
CREATED:20220728T173241Z
LAST-MODIFIED:20221202T144939Z
UID:7613-1660068000-1660071600@vayuusa.org
SUMMARY:VaYU Admissions Online Open House August 9\, 2022 MS Program
DESCRIPTION:[ Register for the Open House Zoom webinar by clicking here. ]\nWelcome to VaYU's online Open House for the Fall 2024 semester. Please join us and find out how you can get an online MS & Ph.D. (Yoga) degree in Yoga Therapy\, Yoga Philosophy\, or Yoga Research from VaYU\, USA. \nYou can study online at your own pace\, place\, and time. \nAdmissions are OPEN for Fall 2024 and applications are coming in. We are very happy to announce that VaYU's Master of Science (Yoga Therapy) Program is accredited by the International Association of Yoga Therapists (IAYT). \n[ Register for the Open House Zoom webinar by clicking here. ]
URL:https://vayuusa.org/event/vayu-admissions-online-open-house-august-7-2022-ms-program/
CATEGORIES:Open House
END:VEVENT
END:VCALENDAR